BEGIN:VCALENDAR
VERSION:2.0
PRODID:-//Hotel Speak - ECPv6.15.16//NONSGML v1.0//EN
CALSCALE:GREGORIAN
METHOD:PUBLISH
X-ORIGINAL-URL:https://www.hotelspeak.com
X-WR-CALDESC:Events for Hotel Speak
REFRESH-INTERVAL;VALUE=DURATION:PT1H
X-Robots-Tag:noindex
X-PUBLISHED-TTL:PT1H
BEGIN:VTIMEZONE
TZID:Europe/London
BEGIN:DAYLIGHT
TZOFFSETFROM:+0000
TZOFFSETTO:+0100
TZNAME:BST
DTSTART:20250330T010000
END:DAYLIGHT
BEGIN:STANDARD
TZOFFSETFROM:+0100
TZOFFSETTO:+0000
TZNAME:GMT
DTSTART:20251026T010000
END:STANDARD
BEGIN:DAYLIGHT
TZOFFSETFROM:+0000
TZOFFSETTO:+0100
TZNAME:BST
DTSTART:20260329T010000
END:DAYLIGHT
BEGIN:STANDARD
TZOFFSETFROM:+0100
TZOFFSETTO:+0000
TZNAME:GMT
DTSTART:20261025T010000
END:STANDARD
BEGIN:DAYLIGHT
TZOFFSETFROM:+0000
TZOFFSETTO:+0100
TZNAME:BST
DTSTART:20270328T010000
END:DAYLIGHT
BEGIN:STANDARD
TZOFFSETFROM:+0100
TZOFFSETTO:+0000
TZNAME:GMT
DTSTART:20271031T010000
END:STANDARD
END:VTIMEZONE
BEGIN:VEVENT
DTSTART;VALUE=DATE:20260531
DTEND;VALUE=DATE:20260603
DTSTAMP:20260425T130923
CREATED:20250318T124811Z
LAST-MODIFIED:20260417T203720Z
UID:24413-1780185600-1780444799@www.hotelspeak.com
SUMMARY:NYU International Hospitality Investment Forum (NYU IHIF) 2026
DESCRIPTION:The NYU International Hospitality Investment Forum (NYU IHIF Americas) serves as a pivotal gathering for hospitality industry leaders\, investors\, and developers across the Americas. It facilitates crucial networking and deal-making opportunities\, bringing together key stakeholders to discuss trends\, challenges\, and opportunities shaping the hotel investment landscape. The forum features a robust program of panels\, presentations\, and workshops\, covering topics such as market performance\, financing strategies\, development projects\, and emerging technologies. \nBy providing a platform for industry experts to share insights and best practices\, NYU IHIF Americas plays a vital role in driving growth and innovation within the hospitality sector. Attendees gain valuable knowledge about current market dynamics\, investment strategies\, and emerging trends\, enabling them to make informed decisions and capitalise on new opportunities. The forum’s focus on fostering collaboration and knowledge exchange makes it an indispensable event for anyone seeking to navigate the complexities of the hotel investment market in the Americas. \nHotel Speak Reader Offer\nSave 10% on your delegate pass when clicking below. \nREGISTER NOW >
URL:https://www.hotelspeak.com/event/nyu-international-hospitality-investment-forum-nyu-ihif-2026/
LOCATION:New York Marriott Marquis\, 1535 Broadway\, New York\, NY\, United States
CATEGORIES:In Person
ATTACH;FMTTYPE=image/jpeg:https://www.hotelspeak.com/wp-content/uploads/2025/03/piotr-osmenda-JqUCtsR1F5E-unsplash.jpg
END:VEVENT
END:VCALENDAR