BEGIN:VCALENDAR
VERSION:2.0
PRODID:-//Hotel Speak - ECPv6.15.16//NONSGML v1.0//EN
CALSCALE:GREGORIAN
METHOD:PUBLISH
X-WR-CALNAME:Hotel Speak
X-ORIGINAL-URL:https://www.hotelspeak.com
X-WR-CALDESC:Events for Hotel Speak
REFRESH-INTERVAL;VALUE=DURATION:PT1H
X-Robots-Tag:noindex
X-PUBLISHED-TTL:PT1H
BEGIN:VTIMEZONE
TZID:Europe/London
BEGIN:DAYLIGHT
TZOFFSETFROM:+0000
TZOFFSETTO:+0100
TZNAME:BST
DTSTART:20260329T010000
END:DAYLIGHT
BEGIN:STANDARD
TZOFFSETFROM:+0100
TZOFFSETTO:+0000
TZNAME:GMT
DTSTART:20261025T010000
END:STANDARD
BEGIN:DAYLIGHT
TZOFFSETFROM:+0000
TZOFFSETTO:+0100
TZNAME:BST
DTSTART:20270328T010000
END:DAYLIGHT
BEGIN:STANDARD
TZOFFSETFROM:+0100
TZOFFSETTO:+0000
TZNAME:GMT
DTSTART:20271031T010000
END:STANDARD
BEGIN:DAYLIGHT
TZOFFSETFROM:+0000
TZOFFSETTO:+0100
TZNAME:BST
DTSTART:20280326T010000
END:DAYLIGHT
BEGIN:STANDARD
TZOFFSETFROM:+0100
TZOFFSETTO:+0000
TZNAME:GMT
DTSTART:20281029T010000
END:STANDARD
END:VTIMEZONE
BEGIN:VEVENT
DTSTART;VALUE=DATE:20270224
DTEND;VALUE=DATE:20270226
DTSTAMP:20260425T224636
CREATED:20250529T090554Z
LAST-MODIFIED:20260421T213910Z
UID:24607-1803427200-1803599999@www.hotelspeak.com
SUMMARY:NoVacancy London 2027
DESCRIPTION:NoVacancy London is a must-attend exhibition and conference for the hotel and accommodation industry. \nOrganised by Terrapinn\, NoVacancy London will be held on February 24-25\, 2027\, at ExCeL London and features a comprehensive program. This includes discussions with industry executives on navigating market challenges and strategic growth\, sessions on energy and sustainability\, marketing summits\, design talks\, and insights into revenue and distribution strategies. \nThe event will also delve into interior and architecture trends\, workforce dynamics\, and the future of hotel technology\, making it a crucial platform for hoteliers and accommodation providers looking to modernise their properties\, optimise their businesses\, and maximise profits. \nFor more information please visit the event website.
URL:https://www.hotelspeak.com/event/novacancy-london-2027/
LOCATION:ExCel Exhibition Centre\, Sandstone Lane\, London\, E16 1XL
CATEGORIES:In Person
ATTACH;FMTTYPE=image/jpeg:https://www.hotelspeak.com/wp-content/uploads/2025/05/NoVacancy-London.jpg
END:VEVENT
END:VCALENDAR