BEGIN:VCALENDAR
VERSION:2.0
PRODID:-//Hotel Speak - ECPv6.15.16//NONSGML v1.0//EN
CALSCALE:GREGORIAN
METHOD:PUBLISH
X-WR-CALNAME:Hotel Speak
X-ORIGINAL-URL:https://www.hotelspeak.com
X-WR-CALDESC:Events for Hotel Speak
REFRESH-INTERVAL;VALUE=DURATION:PT1H
X-Robots-Tag:noindex
X-PUBLISHED-TTL:PT1H
BEGIN:VTIMEZONE
TZID:Europe/London
BEGIN:DAYLIGHT
TZOFFSETFROM:+0000
TZOFFSETTO:+0100
TZNAME:BST
DTSTART:20230326T010000
END:DAYLIGHT
BEGIN:STANDARD
TZOFFSETFROM:+0100
TZOFFSETTO:+0000
TZNAME:GMT
DTSTART:20231029T010000
END:STANDARD
BEGIN:DAYLIGHT
TZOFFSETFROM:+0000
TZOFFSETTO:+0100
TZNAME:BST
DTSTART:20240331T010000
END:DAYLIGHT
BEGIN:STANDARD
TZOFFSETFROM:+0100
TZOFFSETTO:+0000
TZNAME:GMT
DTSTART:20241027T010000
END:STANDARD
BEGIN:DAYLIGHT
TZOFFSETFROM:+0000
TZOFFSETTO:+0100
TZNAME:BST
DTSTART:20250330T010000
END:DAYLIGHT
BEGIN:STANDARD
TZOFFSETFROM:+0100
TZOFFSETTO:+0000
TZNAME:GMT
DTSTART:20251026T010000
END:STANDARD
BEGIN:DAYLIGHT
TZOFFSETFROM:+0000
TZOFFSETTO:+0100
TZNAME:BST
DTSTART:20260329T010000
END:DAYLIGHT
BEGIN:STANDARD
TZOFFSETFROM:+0100
TZOFFSETTO:+0000
TZNAME:GMT
DTSTART:20261025T010000
END:STANDARD
BEGIN:DAYLIGHT
TZOFFSETFROM:+0000
TZOFFSETTO:+0100
TZNAME:BST
DTSTART:20270328T010000
END:DAYLIGHT
BEGIN:STANDARD
TZOFFSETFROM:+0100
TZOFFSETTO:+0000
TZNAME:GMT
DTSTART:20271031T010000
END:STANDARD
END:VTIMEZONE
BEGIN:VTIMEZONE
TZID:UTC
BEGIN:STANDARD
TZOFFSETFROM:+0000
TZOFFSETTO:+0000
TZNAME:UTC
DTSTART:20230101T000000
END:STANDARD
END:VTIMEZONE
BEGIN:VTIMEZONE
TZID:UTC
BEGIN:STANDARD
TZOFFSETFROM:+0000
TZOFFSETTO:+0000
TZNAME:UTC
DTSTART:20230101T000000
END:STANDARD
END:VTIMEZONE
BEGIN:VEVENT
DTSTART;VALUE=DATE:20260330
DTEND;VALUE=DATE:20260402
DTSTAMP:20260425T113626
CREATED:20251023T203613Z
LAST-MODIFIED:20251023T203613Z
UID:24837-1774828800-1775087999@www.hotelspeak.com
SUMMARY:Hospitality Tech360
DESCRIPTION:Hospitality Tech360 is where the future of hospitality meets innovation. Taking place from 30 March – 1 April 2026 at ExCeL London\, this dynamic event brings together the brightest minds\, cutting-edge technology\, and transformative ideas redefining how hotels\, restaurants\, and venues operate. As part of the wider Food\, Drink & Hospitality Week\, it offers an unparalleled opportunity for operators to discover new solutions that enhance guest experience\, streamline operations\, and boost profitability\, all in one immersive\, tech-driven marketplace. \nDesigned for forward-thinking decision-makers and technology pioneers\, Hospitality Tech360 isn’t just a showcase – it’s a catalyst for growth. Attendees can explore the latest innovations through live demos\, connect directly with tech suppliers\, and gain actionable insights from industry leaders shaping tomorrow’s hospitality landscape. Whether you’re seeking smarter systems\, sustainability solutions\, or next-gen guest engagement tools\, Hospitality Tech360 delivers the ideas\, partnerships\, and inspiration to drive your business forward. \nFind out more >
URL:https://www.hotelspeak.com/event/hospitality-tech360/
LOCATION:ExCel Exhibition Centre\, Sandstone Lane\, London\, E16 1XL
CATEGORIES:In Person
ATTACH;FMTTYPE=image/jpeg:https://www.hotelspeak.com/wp-content/uploads/2025/05/nick-fewings-PpDqQUixlJo-unsplash-3.jpg
END:VEVENT
BEGIN:VEVENT
DTSTART;VALUE=DATE:20260323
DTEND;VALUE=DATE:20260326
DTSTAMP:20260425T113626
CREATED:20250204T110416Z
LAST-MODIFIED:20260114T131302Z
UID:24319-1774224000-1774483199@www.hotelspeak.com
SUMMARY:IHIF EMEA 2026
DESCRIPTION:The International Hospitality Investment Forum (IHIF) EMEA 2026 is the premier meeting place for hospitality investment in EMEA\, bringing together the industry’s most influential leaders\, investors\, and innovators. \nWith 190+ world-class speakers\, 2\,500+ industry leaders\, and 700+ global investors managing over $500 billion in assets\, IHIF EMEA is where capital is deployed\, deals are made\, and the future of hospitality investment is shaped. \nThrough curated content tracks\, visionary discussions\, and cutting-edge market intelligence\, the event equips you with the strategies needed to navigate an evolving market\, seize new opportunities\, and stay ahead of industry shifts. \nJoin a global network of decision-makers to exchange ideas\, forge meaningful partnerships\, and be part of the conversations that drive investment and industry transformation. \nHotel Speak Reader Offer\nSave 10% on your All Access Pass by using promotional code 26HOTELSPEAK10 \nRegister now >
URL:https://www.hotelspeak.com/event/ihif-emea-2026/
LOCATION:InterContinental Hotel\, Berlin\, Budapester Str. 2\, Berlin\, 10787\, Germany
CATEGORIES:In Person
ATTACH;FMTTYPE=image/jpeg:https://www.hotelspeak.com/wp-content/uploads/2025/02/IHIF-EMEA.jpg
END:VEVENT
BEGIN:VEVENT
DTSTART;VALUE=DATE:20250929
DTEND;VALUE=DATE:20251001
DTSTAMP:20260425T113626
CREATED:20250529T091917Z
LAST-MODIFIED:20250602T205627Z
UID:24611-1759104000-1759276799@www.hotelspeak.com
SUMMARY:The Annual Hospitality Conference 2025
DESCRIPTION:The AHC (Annual Hospitality Conference) is recognised as the UK’s leading event for hospitality dealmakers and decision-makers\, focusing on investment\, asset management\, and operations across the sector. \nReturning to the Manchester Central Convention Complex on September 29-30 2025\, this event provides a crucial platform for attendees to gain expert insights\, forge valuable connections\, and uncover strategies to maximise ROI in the evolving UK hospitality landscape. \nThe 2025 theme\, “Reset. Rebuild. Rise” reflects a pivotal moment for the sector\, exploring new models and fresh thinking across hotels\, alternative living concepts\, F&B and more. Through high-impact content\, curated networking sessions\, and an exhibition floor showcasing leading suppliers\, The AHC is an essential gathering for those looking to stay at the forefront of hospitality investment and operational excellence in the UK. \nHotel Speak Readers Save 10%\nSave 10% on your registration and join over 1\,100 senior leaders\, including hotel owners\, investors\, developers\, and operators by registering here.
URL:https://www.hotelspeak.com/event/the-annual-hospitality-conference-2025/
LOCATION:Manchester Central Convention Complex\, Windmill St\, Manchester\, M2 3GX\, United Kingdom
CATEGORIES:In Person
ATTACH;FMTTYPE=image/jpeg:https://www.hotelspeak.com/wp-content/uploads/2025/05/AHC-2024-Questex-Manchester-Central-Convention-Complex-London-Photographer-Simon-Callaghan-Photography-1087-4K-scaled.jpg
END:VEVENT
BEGIN:VEVENT
DTSTART;VALUE=DATE:20250318
DTEND;VALUE=DATE:20250321
DTSTAMP:20260425T113626
CREATED:20240910T081153Z
LAST-MODIFIED:20241024T115945Z
UID:23889-1742256000-1742515199@www.hotelspeak.com
SUMMARY:The International Hotel Technology Forum 2025
DESCRIPTION:The International Hotel Technology Forum (IHTF)\, a premier hospitality industry event\, will take place from March 18-20\, 2025. This annual gathering brings together hoteliers\, management companies\, and technology solution providers to explore the latest innovations shaping the future of the industry. \nAttendees have the opportunity to network with peers\, learn from industry experts through presentations and case studies\, and engage in one-on-one meetings with leading technology vendors. The IHTF offers a valuable platform for discovering cutting-edge solutions that can enhance guest experiences\, boost revenue\, and streamline operations.
URL:https://www.hotelspeak.com/event/the-international-hotel-technology-forum-2025/
LOCATION:TBC
CATEGORIES:In Person
ATTACH;FMTTYPE=image/jpeg:https://www.hotelspeak.com/wp-content/uploads/2024/09/IHTF-scaled.jpg
END:VEVENT
BEGIN:VEVENT
DTSTART;VALUE=DATE:20241128
DTEND;VALUE=DATE:20241129
DTSTAMP:20260425T113626
CREATED:20240917T162455Z
LAST-MODIFIED:20241024T115917Z
UID:23925-1732752000-1732838399@www.hotelspeak.com
SUMMARY:UK Wedding Conference 2024
DESCRIPTION:Wedding venue owners\, operators and marketing teams; get ready for an unforgettable conference that will transform your approach to sales\, marketing and customer experience at your wedding venue. \nThe UK Wedding Conference is your opportunity to soak up the expertise of top industry experts\, gather unique perspectives and insights from fellow attendees\, and forge valuable connections. This is the ultimate opportunity to connect with like-minded professionals\, gain invaluable knowledge\, and unlock infinite possibilities for your wedding venue. \nBook your space >
URL:https://www.hotelspeak.com/event/uk-wedding-conference-2024/
LOCATION:Whittlebury Park\, Whittlebury\, Near Towcester\, Northamptonshire\, NN12 8QH\, United Kingdom
CATEGORIES:In Person
ATTACH;FMTTYPE=image/jpeg:https://www.hotelspeak.com/wp-content/uploads/2024/09/Becca-1.jpg
END:VEVENT
BEGIN:VEVENT
DTSTART;VALUE=DATE:20241015
DTEND;VALUE=DATE:20241017
DTSTAMP:20260425T113626
CREATED:20240820T090740Z
LAST-MODIFIED:20240821T140444Z
UID:23826-1728950400-1729123199@www.hotelspeak.com
SUMMARY:Hotel & Resort Innovation Expo
DESCRIPTION:Hotel & Resort Innovation Expo is the UK’s leading event dedicated to bringing fresh ideas and solutions to your industry. Taking place on October 15th and 16th\, 2024\, at the ExCeL London\, this expo is your chance to network with thousands of like-minded individuals and witness the future of hotels and resorts. \nOver the course of two days\, you’ll have the opportunity to browse through 300 exhibitor booths showcasing everything from cutting-edge booking software to luxurious spa products. \nLearn from the best with over 100 insightful seminars led by representatives from top hospitality organisations\, hotels\, and spas. Whether you’re facing marketing challenges or operational hurdles\, Hotel & Resort Innovation Expo has the answers you need to elevate your guest experience and streamline your business. Don’t miss this opportunity to stay ahead of the curve in the exciting world of hospitality! \nRegister for free >>
URL:https://www.hotelspeak.com/event/hotel-resort-innovation-expo/
LOCATION:ExCel Exhibition Centre\, Sandstone Lane\, London\, E16 1XL
CATEGORIES:In Person
ATTACH;FMTTYPE=image/jpeg:https://www.hotelspeak.com/wp-content/uploads/2024/08/nick-fewings-PpDqQUixlJo-unsplash-2.jpg
END:VEVENT
BEGIN:VEVENT
DTSTART;VALUE=DATE:20241015
DTEND;VALUE=DATE:20241017
DTSTAMP:20260425T113626
CREATED:20240115T163328Z
LAST-MODIFIED:20240131T153101Z
UID:20662-1728950400-1729123199@www.hotelspeak.com
SUMMARY:The Independent Hotel Show London 2024
DESCRIPTION:The Independent Hotel Show London is a must-attend event for any luxury or boutique hotelier. It’s a great opportunity to connect with suppliers\, learn about the latest industry trends\, and grow your business. The show features exhibitors from all over the world\, as well as seminars and workshops on a variety of topics. If you’re looking for new ideas to take your hotel to the next level\, the Independent Hotel Show is the place to be. \nVisit their website
URL:https://www.hotelspeak.com/event/the-independent-hotel-show-london-2024/
LOCATION:Olympia London\, Olympia National\, Olympia London\, Hammersmith Road\, London\, W148UX\, United Kingdom
CATEGORIES:In Person
ATTACH;FMTTYPE=image/jpeg:https://www.hotelspeak.com/wp-content/uploads/2024/01/jaanus-jagomagi-Dymu1WiZVko-unsplash-1.jpg
END:VEVENT
BEGIN:VEVENT
DTSTART;VALUE=DATE:20241002
DTEND;VALUE=DATE:20241003
DTSTAMP:20260425T113626
CREATED:20240725T135421Z
LAST-MODIFIED:20240813T085739Z
UID:23713-1727827200-1727913599@www.hotelspeak.com
SUMMARY:Hotel Guest Experience Forum London 2024
DESCRIPTION:Hotel Guest Experience Forum London is a conference designed to bring together prominent hospitality leaders and explore the future of guest experiences in the hotel industry. \nHeld at the Waldorf Hilton in London on October 2nd\, 2024\, the event will focus on how hotels can leverage digital tools and guest data to create a more personalised and positive experience. \nAttendees can expect a packed agenda featuring seasoned industry leaders discussing emerging trends. There will also be dedicated sessions showcasing successful strategies from hoteliers\, with a focus on shaping the guest journey throughout their stay. \nBy attending the forum\, hoteliers can gain valuable insights and practical tools to elevate their guest experiences and stay ahead of the curve in the evolving hospitality landscape. \nHoteliers can register for a VIP complimentary pass below. \nRegister Now
URL:https://www.hotelspeak.com/event/hotel-guest-experience-forum-london-2024/
LOCATION:The Waldorf Hilton\, London\, Aldwych\, London\, WC2B4DD\, United Kingdom
CATEGORIES:In Person
ATTACH;FMTTYPE=image/jpeg:https://www.hotelspeak.com/wp-content/uploads/2024/07/The-Hotel-Guest-Experience-Forum.jpeg
END:VEVENT
BEGIN:VEVENT
DTSTART;VALUE=DATE:20240930
DTEND;VALUE=DATE:20241002
DTSTAMP:20260425T113626
CREATED:20240813T081200Z
LAST-MODIFIED:20240813T082131Z
UID:23776-1727654400-1727827199@www.hotelspeak.com
SUMMARY:The Annual Hospitality Conference 2024
DESCRIPTION:Celebrating 20 years of industry insight\, The Annual Hospitality Conference returns on September 30th\, with the theme of “Proven Paths\, New Horizons”. \nAHC 2024 will spotlight the latest trends and opportunities across the expanded hospitality sector\, including hotels\, alternative living\, and the vibrant F&B scene. \nYou’ll hear from 90 industry leaders\, including keynote speakers\, as they share their vision for the future of hospitality and network with more than 1\,000 attendees. \nRegister Now >
URL:https://www.hotelspeak.com/event/the-annual-hospitality-conference-2024/
LOCATION:Manchester Central Convention Complex\, Windmill St\, Manchester\, M2 3GX\, United Kingdom
CATEGORIES:In Person
ATTACH;FMTTYPE=image/png:https://www.hotelspeak.com/wp-content/uploads/2024/08/Manchester-Central_0.png
END:VEVENT
BEGIN:VEVENT
DTSTART;VALUE=DATE:20240917
DTEND;VALUE=DATE:20240920
DTSTAMP:20260425T113626
CREATED:20240131T161355Z
LAST-MODIFIED:20240131T161451Z
UID:22894-1726531200-1726790399@www.hotelspeak.com
SUMMARY:Skift Global Forum 2024
DESCRIPTION:The Skift Global Forum\, taking place in New York City this September\, is a beacon for anyone passionate about the future of travel. This premier event gathers industry leaders\, from seasoned CEOs to disruptive innovators\, to delve into the evolving trends and challenges shaping the travel landscape. Prepare for insightful talks\, lively panel discussions\, and cutting-edge presentations exploring the impact of technology\, sustainability\, and consumer preferences on the way we travel and experience destinations. Whether you’re a hospitality professional\, a travel tech developer\, or simply a curious explorer\, the Skift Global Forum offers a vibrant platform to connect with peers\, spark collaborations\, and gain invaluable insights that will propel your future endeavors in the ever-dynamic world of travel. Register early to secure your spot and join the conversation shaping the next chapter of travel. \nVisit website
URL:https://www.hotelspeak.com/event/skift-global-forum-2024/
LOCATION:The Glasshouse\, 660 12th Ave\, Floor 6\, New York City\, United States
CATEGORIES:In Person
ATTACH;FMTTYPE=image/jpeg:https://www.hotelspeak.com/wp-content/uploads/2024/01/colton-duke-UExx0KnnkjY-unsplash.jpg
END:VEVENT
BEGIN:VEVENT
DTSTART;VALUE=DATE:20240529
DTEND;VALUE=DATE:20240530
DTSTAMP:20260425T113626
CREATED:20240131T155148Z
LAST-MODIFIED:20240131T155148Z
UID:22889-1716940800-1717027199@www.hotelspeak.com
SUMMARY:Unfold 2024
DESCRIPTION:Mews Unfold is a hospitality technology forum held in Amsterdam on May 29\, 2024. It’s a great opportunity for hoteliers and hospitality industry suppliers to learn about the latest industry trends\, meet peers\, and get inspired. The event features talks\, panels\, breakout sessions\, and networking opportunities. If you’re looking for ways to stay ahead of the curve in the hospitality industry\, Mews Unfold is definitely worth checking out. \nVisit website\nNews about Mews
URL:https://www.hotelspeak.com/event/unfold-2024/
LOCATION:Muziekgebouw\, Piet Heinkade 1\, 1019 BR\, Amsterdam\, Netherlands
CATEGORIES:In Person
ATTACH;FMTTYPE=image/jpeg:https://www.hotelspeak.com/wp-content/uploads/2024/01/ronnie-overgoor-_Nv2pQoNclA-unsplash.jpg
END:VEVENT
BEGIN:VEVENT
DTSTART;VALUE=DATE:20240506
DTEND;VALUE=DATE:20240510
DTSTAMP:20260425T113626
CREATED:20240131T162431Z
LAST-MODIFIED:20240131T162522Z
UID:22899-1714953600-1715299199@www.hotelspeak.com
SUMMARY:Arabian Travel Market 2024
DESCRIPTION:Immerse yourself in the vibrant pulse of the travel and tourism industry at the Arabian Travel Market (ATM) in Dubai. This annual extravaganza\, taking place from May 6-9\, 2024\, is your gateway to unlocking global travel growth. Whether you’re a seasoned professional in leisure\, MICE\, luxury\, or corporate travel\, or a budding entrepreneur seeking inspiration\, ATM has something for everyone. \nConnect with a diverse network of exhibitors from around the world\, representing destinations\, airlines\, travel technology providers\, and more. Discover the latest industry trends and innovations through insightful seminars\, cutting-edge presentations\, and interactive workshops. Forge valuable partnerships\, ignite fresh business ideas\, and gain expert advice from industry leaders – all under one roof. Don’t miss this chance to propel your business to new heights and be a part of the dynamic future of travel at ATM Dubai. \nVisit website
URL:https://www.hotelspeak.com/event/arabian-travel-market-2024/
LOCATION:Dubai World Trade Centre\, Sheikh Zayed Rd - Trade Centre - Trade Centre 2\, Dubai\, United Arab Emirates
CATEGORIES:In Person
ATTACH;FMTTYPE=image/jpeg:https://www.hotelspeak.com/wp-content/uploads/2024/01/david-rodrigo-Fr6zexbmjmc-unsplash.jpg
END:VEVENT
BEGIN:VEVENT
DTSTART;VALUE=DATE:20240312
DTEND;VALUE=DATE:20240314
DTSTAMP:20260425T113626
CREATED:20240131T152720Z
LAST-MODIFIED:20240308T092012Z
UID:22874-1710201600-1710374399@www.hotelspeak.com
SUMMARY:The Independent Hotel Show Amsterdam 2024
DESCRIPTION:The Independent Hotel Show Amsterdam is a two-day event for independent hoteliers and those who supply them. It’s a great opportunity to network with other hoteliers\, see new products and services\, and learn about the latest trends in the hospitality industry. The 2024 show will be held on March 12 and 13 at RAI\, Hall 5\, Amsterdam. \nVisit their website 
URL:https://www.hotelspeak.com/event/the-independent-hotel-show-amsterdam-2024/
LOCATION:Amsterdam RAI\, Europaplein 24\, 1078 GZ\, Amsterdam\, Netherlands
CATEGORIES:In Person
ATTACH;FMTTYPE=image/jpeg:https://www.hotelspeak.com/wp-content/uploads/2024/01/javier-m-2Hs8zbwOLDA-unsplash.jpg
END:VEVENT
BEGIN:VEVENT
DTSTART;VALUE=DATE:20240305
DTEND;VALUE=DATE:20240308
DTSTAMP:20260425T113626
CREATED:20240131T154143Z
LAST-MODIFIED:20240131T154143Z
UID:22884-1709596800-1709855999@www.hotelspeak.com
SUMMARY:ITB Berlin 2024
DESCRIPTION:ITB Berlin is a travel trade show that takes place annually in Berlin\, Germany. It’s known as a hub for the global travel industry\, where industry leaders\, experts\, and enthusiasts come together to network\, share ideas\, and do business. The event features exhibitions from various travel destinations\, tourism organizations\, travel technology companies\, and more. ITB Berlin is also a platform for industry talks\, conferences\, and presentations on the latest trends and innovations in travel. Whether you’re a travel professional or simply passionate about travel\, ITB Berlin is a great place to learn\, connect\, and be inspired. \nVisit website
URL:https://www.hotelspeak.com/event/itb-berlin-2024/
LOCATION:Messe Berlin\, Messedamm 22\, 14055\, Berlin\, Germany
CATEGORIES:In Person
ATTACH;FMTTYPE=image/jpeg:https://www.hotelspeak.com/wp-content/uploads/2024/01/florian-wehde-uFGi0_YciE0-unsplash.jpg
END:VEVENT
BEGIN:VEVENT
DTSTART;VALUE=DATE:20240115
DTEND;VALUE=DATE:20240117
DTSTAMP:20260425T113626
CREATED:20230904T124249Z
LAST-MODIFIED:20240115T172048Z
UID:20343-1705276800-1705449599@www.hotelspeak.com
SUMMARY:The Hotel Leadership Conference 2024
DESCRIPTION:The Hotel Leadership Conference 2024 will be held at Park Plaza London Riverbank on 15-16 January 2024. \nThe upcoming conference\, titled ‘Breaking Boundaries’\, aims to delve into the future of hotels. Set amidst the backdrop of innovation\, inspiration\, and transformative ideas\, this is the go-to for event hoteliers and industry leaders. \nThe upcoming conference serves as a platform for networking\, knowledge sharing\, and exploring innovative strategies to address current challenges and opportunities in the hotel industry..
URL:https://www.hotelspeak.com/event/the-hotel-leadership-conference-2024/
LOCATION:Park Plaza London Riverbank\, 18 Albert Embankment\, London\, SE1 7TJ
CATEGORIES:In Person
ATTACH;FMTTYPE=image/jpeg:https://www.hotelspeak.com/wp-content/uploads/2023/09/benjamin-davies-Oja2ty_9ZLM-unsplash-3.jpg
ORGANIZER;CN="The Master Innholders":MAILTO:wvincent@masterinnholders.co.uk
END:VEVENT
END:VCALENDAR